BEGIN:VCALENDAR
VERSION:2.0
PRODID:-//Les Bretons du Mans - ECPv6.15.20//NONSGML v1.0//EN
CALSCALE:GREGORIAN
METHOD:PUBLISH
X-WR-CALNAME:Les Bretons du Mans
X-ORIGINAL-URL:https://bretonsdumans.org
X-WR-CALDESC:Évènements pour Les Bretons du Mans
REFRESH-INTERVAL;VALUE=DURATION:PT1H
X-Robots-Tag:noindex
X-PUBLISHED-TTL:PT1H
BEGIN:VTIMEZONE
TZID:Europe/Paris
BEGIN:DAYLIGHT
TZOFFSETFROM:+0100
TZOFFSETTO:+0200
TZNAME:CEST
DTSTART:20250330T010000
END:DAYLIGHT
BEGIN:STANDARD
TZOFFSETFROM:+0200
TZOFFSETTO:+0100
TZNAME:CET
DTSTART:20251026T010000
END:STANDARD
BEGIN:DAYLIGHT
TZOFFSETFROM:+0100
TZOFFSETTO:+0200
TZNAME:CEST
DTSTART:20260329T010000
END:DAYLIGHT
BEGIN:STANDARD
TZOFFSETFROM:+0200
TZOFFSETTO:+0100
TZNAME:CET
DTSTART:20261025T010000
END:STANDARD
BEGIN:DAYLIGHT
TZOFFSETFROM:+0100
TZOFFSETTO:+0200
TZNAME:CEST
DTSTART:20270328T010000
END:DAYLIGHT
BEGIN:STANDARD
TZOFFSETFROM:+0200
TZOFFSETTO:+0100
TZNAME:CET
DTSTART:20271031T010000
END:STANDARD
END:VTIMEZONE
BEGIN:VEVENT
DTSTART;TZID=Europe/Paris:20260421T200000
DTEND;TZID=Europe/Paris:20260421T220000
DTSTAMP:20260420T032454
CREATED:20260310T133702Z
LAST-MODIFIED:20260310T133702Z
UID:1952-1776801600-1776808800@bretonsdumans.org
SUMMARY:danses répétitions pour prestations exterieures
DESCRIPTION:
URL:https://bretonsdumans.org/events/danses-repetitions-pour-prestations-exterieures/
LOCATION:Maison pour tous Jean Moulin\, 23 Rue Robert Collet\, Le Mans\, 72100\, France
END:VEVENT
BEGIN:VEVENT
DTSTART;TZID=Europe/Paris:20260428T200000
DTEND;TZID=Europe/Paris:20260428T220000
DTSTAMP:20260420T032454
CREATED:20260310T133749Z
LAST-MODIFIED:20260310T133749Z
UID:1954-1777406400-1777413600@bretonsdumans.org
SUMMARY:danses répétitions du 2eme mardi
DESCRIPTION:
URL:https://bretonsdumans.org/events/danses-repetitions-du-2eme-mardi-4/
LOCATION:Maison pour tous Jean Moulin\, 23 Rue Robert Collet\, Le Mans\, 72100\, France
END:VEVENT
END:VCALENDAR