BEGIN:VCALENDAR
VERSION:2.0
PRODID:-//Les Bretons du Mans - ECPv6.15.20//NONSGML v1.0//EN
CALSCALE:GREGORIAN
METHOD:PUBLISH
X-ORIGINAL-URL:https://bretonsdumans.org
X-WR-CALDESC:Évènements pour Les Bretons du Mans
REFRESH-INTERVAL;VALUE=DURATION:PT1H
X-Robots-Tag:noindex
X-PUBLISHED-TTL:PT1H
BEGIN:VTIMEZONE
TZID:Europe/Paris
BEGIN:DAYLIGHT
TZOFFSETFROM:+0100
TZOFFSETTO:+0200
TZNAME:CEST
DTSTART:20240331T010000
END:DAYLIGHT
BEGIN:STANDARD
TZOFFSETFROM:+0200
TZOFFSETTO:+0100
TZNAME:CET
DTSTART:20241027T010000
END:STANDARD
BEGIN:DAYLIGHT
TZOFFSETFROM:+0100
TZOFFSETTO:+0200
TZNAME:CEST
DTSTART:20250330T010000
END:DAYLIGHT
BEGIN:STANDARD
TZOFFSETFROM:+0200
TZOFFSETTO:+0100
TZNAME:CET
DTSTART:20251026T010000
END:STANDARD
BEGIN:DAYLIGHT
TZOFFSETFROM:+0100
TZOFFSETTO:+0200
TZNAME:CEST
DTSTART:20260329T010000
END:DAYLIGHT
BEGIN:STANDARD
TZOFFSETFROM:+0200
TZOFFSETTO:+0100
TZNAME:CET
DTSTART:20261025T010000
END:STANDARD
END:VTIMEZONE
BEGIN:VEVENT
DTSTART;TZID=Europe/Paris:20250902T200000
DTEND;TZID=Europe/Paris:20250902T220000
DTSTAMP:20260419T180035
CREATED:20250618T100752Z
LAST-MODIFIED:20250618T100752Z
UID:1730-1756843200-1756850400@bretonsdumans.org
SUMMARY:cours débutants
DESCRIPTION:
URL:https://bretonsdumans.org/events/cours-debutants/
LOCATION:Maison pour tous Jean Moulin\, 23 Rue Robert Collet\, Le Mans\, 72100\, France
END:VEVENT
BEGIN:VEVENT
DTSTART;TZID=Europe/Paris:20250906T140000
DTEND;TZID=Europe/Paris:20250907T020000
DTSTAMP:20260419T180035
CREATED:20250904T121725Z
LAST-MODIFIED:20250904T121725Z
UID:1765-1757167200-1757210400@bretonsdumans.org
SUMMARY:BREIZH A LIVE 2025
DESCRIPTION:Pour soutenir la langue bretonne à CARHAIX
URL:https://bretonsdumans.org/events/breizh-a-live-2025/
LOCATION:CARHAIX\, espace GLENMOR
END:VEVENT
BEGIN:VEVENT
DTSTART;TZID=Europe/Paris:20250909T200000
DTEND;TZID=Europe/Paris:20250909T230000
DTSTAMP:20260419T180035
CREATED:20250618T100623Z
LAST-MODIFIED:20250622T122823Z
UID:1728-1757448000-1757458800@bretonsdumans.org
SUMMARY:reprise de nos activités - danses
DESCRIPTION:
URL:https://bretonsdumans.org/events/reprise-de-nos-activites-danses/
LOCATION:Maison pour tous Jean Moulin\, 23 Rue Robert Collet\, Le Mans\, 72100\, France
END:VEVENT
BEGIN:VEVENT
DTSTART;TZID=Europe/Paris:20250916T200000
DTEND;TZID=Europe/Paris:20250916T223000
DTSTAMP:20260419T180035
CREATED:20250618T100839Z
LAST-MODIFIED:20250618T101147Z
UID:1732-1758052800-1758061800@bretonsdumans.org
SUMMARY:danses répétitions pour prestations extérieures
DESCRIPTION:
URL:https://bretonsdumans.org/events/danses-repetitions/
LOCATION:Maison pour tous Jean Moulin\, 23 Rue Robert Collet\, Le Mans\, 72100\, France
END:VEVENT
BEGIN:VEVENT
DTSTART;TZID=Europe/Paris:20250921T143000
DTEND;TZID=Europe/Paris:20250921T163000
DTSTAMP:20260419T180035
CREATED:20250912T092159Z
LAST-MODIFIED:20250912T092159Z
UID:1797-1758465000-1758472200@bretonsdumans.org
SUMMARY:animations danses au Mans au JACOBINS
DESCRIPTION:
URL:https://bretonsdumans.org/events/animations-danses-au-mans-au-jacobins/
END:VEVENT
BEGIN:VEVENT
DTSTART;TZID=Europe/Paris:20250923T200000
DTEND;TZID=Europe/Paris:20250923T220000
DTSTAMP:20260419T180035
CREATED:20250618T100956Z
LAST-MODIFIED:20250618T100956Z
UID:1734-1758657600-1758664800@bretonsdumans.org
SUMMARY:danses répétitions cours
DESCRIPTION:
URL:https://bretonsdumans.org/events/danses-repetitions-cours/
LOCATION:Maison pour tous Jean Moulin\, 23 Rue Robert Collet\, Le Mans\, 72100\, France
END:VEVENT
BEGIN:VEVENT
DTSTART;TZID=Europe/Paris:20250930T200000
DTEND;TZID=Europe/Paris:20250930T220000
DTSTAMP:20260419T180035
CREATED:20250908T101358Z
LAST-MODIFIED:20250908T101358Z
UID:1773-1759262400-1759269600@bretonsdumans.org
SUMMARY:réunion de bureau
DESCRIPTION:
URL:https://bretonsdumans.org/events/reunion-de-bureau-2/
LOCATION:Maison pour tous Jean Moulin\, 23 Rue Robert Collet\, Le Mans\, 72100\, France
END:VEVENT
END:VCALENDAR